BEGIN:VCALENDAR
PRODID:-//hacksw/handcal//NONSGML v1.0//EN
VERSION:2.0
CALSCALE:GREGORIAN
METHOD:PUBLISH
X-WR-CALNAME:Aprende a programar en Valencia - Merendojos con Python
X-WR-TIMEZONE:Europe/Madrid
X-WR-CALDESC:Aprende a programar en Valencia - Merendojos con Python
BEGIN:VEVENT
DTSTART:20190206T173000Z
DTEND:20190206T183000Z
DTSTAMP:20190206T173000Z
UID:d604ab58fd0f265c5882b9d474c160b2@betabeers.com
CREATED:20190127T225423Z
DESCRIPTION:https://betabeers.com/event/aprende-a-programar-valencia-merend
ojos-python-9834/
URL:https://betabeers.com/event/aprende-a-programar-valencia-merendojos-pyt
hon-9834/
LAST-MODIFIED:20190127T225423Z
LOCATION:Izquierda, 1º A, Valencia, España
SEQUENCE:0
STATUS:CONFIRMED
SUMMARY:Aprende a programar en Valencia - Merendojos con Python
TRANSP:OPAQUE
END:VEVENT
END:VCALENDAR
