BEGIN:VCALENDAR
PRODID:-//hacksw/handcal//NONSGML v1.0//EN
VERSION:2.0
CALSCALE:GREGORIAN
METHOD:PUBLISH
X-WR-CALNAME:Make your Team
X-WR-TIMEZONE:Europe/Madrid
X-WR-CALDESC:Make your Team
BEGIN:VEVENT
DTSTART:20130530T160000Z
DTEND:20130530T200000Z
DTSTAMP:20130530T160000Z
UID:9873a43b6a5102bdfaeb81d5c3ac1b02@betabeers.com
CREATED:20130528T142705Z
DESCRIPTION:https://betabeers.com/event/make-your-team-30-mayo-2013-982/
URL:https://betabeers.com/event/make-your-team-30-mayo-2013-982/
LAST-MODIFIED:20130528T142705Z
LOCATION:C/Príncipe, 53, 1º en Vigo, Vigo, España
SEQUENCE:0
STATUS:CONFIRMED
SUMMARY:Make your Team
TRANSP:OPAQUE
END:VEVENT
END:VCALENDAR
