BEGIN:VCALENDAR
PRODID:-//hacksw/handcal//NONSGML v1.0//EN
VERSION:2.0
CALSCALE:GREGORIAN
METHOD:PUBLISH
X-WR-CALNAME:AngularJS - SocialBro Dev Talks II
X-WR-TIMEZONE:Europe/Madrid
X-WR-CALDESC:AngularJS - SocialBro Dev Talks II
BEGIN:VEVENT
DTSTART:20130529T173000Z
DTEND:20130529T181500Z
DTSTAMP:20130529T173000Z
UID:5a8e93d540cce2a0c9d062f33cbcc9f5@betabeers.com
CREATED:20130527T161659Z
DESCRIPTION:https://betabeers.com/event/angularjs-socialbro-dev-talks-ii-29
-mayo-2013-979/
URL:https://betabeers.com/event/angularjs-socialbro-dev-talks-ii-29-mayo-20
13-979/
LAST-MODIFIED:20130527T161659Z
LOCATION:San Felipe, 9 3ro Izq, Cordoba, España
SEQUENCE:0
STATUS:CONFIRMED
SUMMARY:AngularJS - SocialBro Dev Talks II
TRANSP:OPAQUE
END:VEVENT
END:VCALENDAR
