BEGIN:VCALENDAR
PRODID:-//hacksw/handcal//NONSGML v1.0//EN
VERSION:2.0
CALSCALE:GREGORIAN
METHOD:PUBLISH
X-WR-CALNAME:Mobile World Congress 2012
X-WR-TIMEZONE:Europe/Madrid
X-WR-CALDESC:Mobile World Congress 2012
BEGIN:VEVENT
DTSTART:20120227T083000Z
DTEND:20120301T150000Z
DTSTAMP:20120227T083000Z
UID:ddacc20a13ff3b3a380135cb20cb79be@betabeers.com
CREATED:20120207T175119Z
DESCRIPTION:https://betabeers.com/event/mobile-world-congress-2012-27-febre
ro-2012-95/
URL:https://betabeers.com/event/mobile-world-congress-2012-27-febrero-2012-
95/
LAST-MODIFIED:20120207T175119Z
LOCATION:Fira Barcelona‎, Avinguda de la Reina Maria Cristina, Barcelona,
 España
SEQUENCE:0
STATUS:CONFIRMED
SUMMARY:Mobile World Congress 2012
TRANSP:OPAQUE
END:VEVENT
END:VCALENDAR
