BEGIN:VCALENDAR
PRODID:-//hacksw/handcal//NONSGML v1.0//EN
VERSION:2.0
CALSCALE:GREGORIAN
METHOD:PUBLISH
X-WR-CALNAME:Javascript Training in Chennai
X-WR-TIMEZONE:Europe/Madrid
X-WR-CALDESC:Javascript Training in Chennai
BEGIN:VEVENT
DTSTART:20180925T130000Z
DTEND:20181126T190000Z
DTSTAMP:20180925T130000Z
UID:bcbb3ea6a683b0f886d0e729f9a678e0@betabeers.com
CREATED:20180925T094054Z
DESCRIPTION:https://betabeers.com/event/javascript-training-in-chennai-8998
/
URL:https://betabeers.com/event/javascript-training-in-chennai-8998/
LAST-MODIFIED:20180925T094054Z
LOCATION:37F Velachery Main Road, Velachery,  Chennai - 600042 Tamil Nadu N
ext to Adyar Ananda Bhavan, Chennai, India
SEQUENCE:0
STATUS:CONFIRMED
SUMMARY:Javascript Training in Chennai
TRANSP:OPAQUE
END:VEVENT
END:VCALENDAR
