BEGIN:VCALENDAR
PRODID:-//hacksw/handcal//NONSGML v1.0//EN
VERSION:2.0
CALSCALE:GREGORIAN
METHOD:PUBLISH
X-WR-CALNAME:Spark Training Academy
X-WR-TIMEZONE:Europe/Madrid
X-WR-CALDESC:Spark Training Academy
BEGIN:VEVENT
DTSTART:20180906T160000Z
DTEND:20181109T150000Z
DTSTAMP:20180906T160000Z
UID:eaf6071fc1fb7b37f173b4c678937748@betabeers.com
CREATED:20180905T132341Z
DESCRIPTION:https://betabeers.com/event/spark-training-academy-8868/
URL:https://betabeers.com/event/spark-training-academy-8868/
LAST-MODIFIED:20180905T132341Z
LOCATION:37F Velachery Main Road, Velachery,  Chennai - 600042 Tamil Nadu N
ext to Adyar Ananda Bhavan, Chennai, India
SEQUENCE:0
STATUS:CONFIRMED
SUMMARY:Spark Training Academy
TRANSP:OPAQUE
END:VEVENT
END:VCALENDAR
