BEGIN:VCALENDAR
PRODID:-//hacksw/handcal//NONSGML v1.0//EN
VERSION:2.0
CALSCALE:GREGORIAN
METHOD:PUBLISH
X-WR-CALNAME:Games2Learn
X-WR-TIMEZONE:Europe/Madrid
X-WR-CALDESC:Games2Learn
BEGIN:VEVENT
DTSTART:20130427T090000Z
DTEND:20130427T170000Z
DTSTAMP:20130427T090000Z
UID:4c4dd6b22546908f22746085577c4b8b@betabeers.com
CREATED:20130417T131635Z
DESCRIPTION:https://betabeers.com/event/games2learn-27-abril-2013-880/
URL:https://betabeers.com/event/games2learn-27-abril-2013-880/
LAST-MODIFIED:20130417T131635Z
LOCATION:Av. Torre Blanca 59, Sant Cugat del Valles, España
SEQUENCE:0
STATUS:CONFIRMED
SUMMARY:Games2Learn
TRANSP:OPAQUE
END:VEVENT
END:VCALENDAR
