BEGIN:VCALENDAR
PRODID:-//hacksw/handcal//NONSGML v1.0//EN
VERSION:2.0
CALSCALE:GREGORIAN
METHOD:PUBLISH
X-WR-CALNAME:webcatBCN
X-WR-TIMEZONE:Europe/Madrid
X-WR-CALDESC:webcatBCN
BEGIN:VEVENT
DTSTART:20120215T170000Z
DTEND:20120215T190000Z
DTSTAMP:20120215T170000Z
UID:2b7b901f05259e19d28fc8b06cc0f04e@betabeers.com
CREATED:20120203T162639Z
DESCRIPTION:https://betabeers.com/event/webcatbcn-15-febrero-2012-87/
URL:https://betabeers.com/event/webcatbcn-15-febrero-2012-87/
LAST-MODIFIED:20120203T162639Z
LOCATION:Providència, 88, Barcelona, España
SEQUENCE:0
STATUS:CONFIRMED
SUMMARY:webcatBCN
TRANSP:OPAQUE
END:VEVENT
END:VCALENDAR
