BEGIN:VCALENDAR
PRODID:-//hacksw/handcal//NONSGML v1.0//EN
VERSION:2.0
CALSCALE:GREGORIAN
METHOD:PUBLISH
X-WR-CALNAME:Murcia Devops
X-WR-TIMEZONE:Europe/Madrid
X-WR-CALDESC:Murcia Devops
BEGIN:VEVENT
DTSTART:20130411T180000Z
DTEND:20130411T190000Z
DTSTAMP:20130411T180000Z
UID:c76c419bbb88d384ca983e6270208f28@betabeers.com
CREATED:20130411T100447Z
DESCRIPTION:https://betabeers.com/event/murcia-devops-866/
URL:https://betabeers.com/event/murcia-devops-866/
LAST-MODIFIED:20130411T100447Z
LOCATION:Facultad de Informática de la Universidad de Murcia, Murcia, Espa
ña
SEQUENCE:0
STATUS:CONFIRMED
SUMMARY:Murcia Devops
TRANSP:OPAQUE
END:VEVENT
END:VCALENDAR
