BEGIN:VCALENDAR
PRODID:-//hacksw/handcal//NONSGML v1.0//EN
VERSION:2.0
CALSCALE:GREGORIAN
METHOD:PUBLISH
X-WR-CALNAME:Cadius Zaragoza
X-WR-TIMEZONE:Europe/Madrid
X-WR-CALDESC:Cadius Zaragoza
BEGIN:VEVENT
DTSTART:20130404T193000Z
DTEND:20130404T200000Z
DTSTAMP:20130404T193000Z
UID:cb521a8ec2a957a92fbcca7bd37a74a4@betabeers.com
CREATED:20130404T115622Z
DESCRIPTION:https://betabeers.com/event/cadius-zaragoza-845/
URL:https://betabeers.com/event/cadius-zaragoza-845/
LAST-MODIFIED:20130404T115622Z
LOCATION:Coso, 120, Zaragoza, España
SEQUENCE:0
STATUS:CONFIRMED
SUMMARY:Cadius Zaragoza
TRANSP:OPAQUE
END:VEVENT
END:VCALENDAR
