BEGIN:VCALENDAR
PRODID:-//hacksw/handcal//NONSGML v1.0//EN
VERSION:2.0
CALSCALE:GREGORIAN
METHOD:PUBLISH
X-WR-CALNAME:Tech Demo Day Barcelona
X-WR-TIMEZONE:Europe/Madrid
X-WR-CALDESC:Tech Demo Day Barcelona
BEGIN:VEVENT
DTSTART:20130522T150000Z
DTEND:20130522T200000Z
DTSTAMP:20130522T150000Z
UID:804f68fa180f5ab4f2b753856832837b@betabeers.com
CREATED:20130403T142625Z
DESCRIPTION:https://betabeers.com/event/tech-demo-day-barcelona-22-mayo-201
3-842/
URL:https://betabeers.com/event/tech-demo-day-barcelona-22-mayo-2013-842/
LAST-MODIFIED:20130403T142625Z
LOCATION:Carrer Lluçanès nº 41-43, Barcelona, España
SEQUENCE:0
STATUS:CONFIRMED
SUMMARY:Tech Demo Day Barcelona
TRANSP:OPAQUE
END:VEVENT
END:VCALENDAR
