BEGIN:VCALENDAR
PRODID:-//hacksw/handcal//NONSGML v1.0//EN
VERSION:2.0
CALSCALE:GREGORIAN
METHOD:PUBLISH
X-WR-CALNAME:AUG Barcelona
X-WR-TIMEZONE:Europe/Madrid
X-WR-CALDESC:AUG Barcelona
BEGIN:VEVENT
DTSTART:20130408T183000Z
DTEND:20130408T203000Z
DTSTAMP:20130408T183000Z
UID:c86612c32bb3b658c96b47995db1c55d@betabeers.com
CREATED:20130402T151012Z
DESCRIPTION:https://betabeers.com/event/aug-barcelona-839/
URL:https://betabeers.com/event/aug-barcelona-839/
LAST-MODIFIED:20130402T151012Z
LOCATION:Plaça Catalunya 1, Barcelona, España, Barcelona, España
SEQUENCE:0
STATUS:CONFIRMED
SUMMARY:AUG Barcelona
TRANSP:OPAQUE
END:VEVENT
END:VCALENDAR
