BEGIN:VCALENDAR
PRODID:-//hacksw/handcal//NONSGML v1.0//EN
VERSION:2.0
CALSCALE:GREGORIAN
METHOD:PUBLISH
X-WR-CALNAME:Megathon Windows 2013 - Zaragoza
X-WR-TIMEZONE:Europe/Madrid
X-WR-CALDESC:Megathon Windows 2013 - Zaragoza
BEGIN:VEVENT
DTSTART:20130412T160000Z
DTEND:20130414T130000Z
DTSTAMP:20130412T160000Z
UID:0e6f17101123fa32d6966fcd23b72787@betabeers.com
CREATED:20130319T154959Z
DESCRIPTION:https://betabeers.com/event/megathon-windows-2013-zaragoza-12-a
bril-2013-794/
URL:https://betabeers.com/event/megathon-windows-2013-zaragoza-12-abril-201
3-794/
LAST-MODIFIED:20130319T154959Z
LOCATION:Eduardo Ibarra nº6 50009, Zaragoza, España
SEQUENCE:0
STATUS:CONFIRMED
SUMMARY:Megathon Windows 2013 - Zaragoza
TRANSP:OPAQUE
END:VEVENT
END:VCALENDAR
