BEGIN:VCALENDAR
PRODID:-//hacksw/handcal//NONSGML v1.0//EN
VERSION:2.0
CALSCALE:GREGORIAN
METHOD:PUBLISH
X-WR-CALNAME:BARUCO - Barcelona Ruby Conference 2013
X-WR-TIMEZONE:Europe/Madrid
X-WR-CALDESC:BARUCO - Barcelona Ruby Conference 2013
BEGIN:VEVENT
DTSTART:20130913T230000Z
DTEND:20130915T230000Z
DTSTAMP:20130913T230000Z
UID:27f55444c436f65799284729a8d2cfeb@betabeers.com
CREATED:20130306T002250Z
DESCRIPTION:https://betabeers.com/event/baruco-barcelona-ruby-conference-20
13-742/
URL:https://betabeers.com/event/baruco-barcelona-ruby-conference-2013-742/
LAST-MODIFIED:20130306T002250Z
LOCATION:Avenida Diagonal, 547, Barcelona, España
SEQUENCE:0
STATUS:CONFIRMED
SUMMARY:BARUCO - Barcelona Ruby Conference 2013
TRANSP:OPAQUE
END:VEVENT
END:VCALENDAR
