BEGIN:VCALENDAR
PRODID:-//hacksw/handcal//NONSGML v1.0//EN
VERSION:2.0
CALSCALE:GREGORIAN
METHOD:PUBLISH
X-WR-CALNAME:Desarrollo de Apps para Windows Phone y Windows 8 en C# y Azure - Webcast
X-WR-TIMEZONE:Europe/Madrid
X-WR-CALDESC:Desarrollo de Apps para Windows Phone y Windows 8 en C# y Azure - Webcast
BEGIN:VEVENT
DTSTART:20130304T080000Z
DTEND:20130308T160000Z
DTSTAMP:20130304T080000Z
UID:50e3d714de1a56a9172eb2034120f8ba@betabeers.com
CREATED:20130228T114653Z
DESCRIPTION:https://betabeers.com/event/desarrollo-apps-windows-phone-windo
ws-8-c-azure-webcast-734/
URL:https://betabeers.com/event/desarrollo-apps-windows-phone-windows-8-c-a
zure-webcast-734/
LAST-MODIFIED:20130228T114653Z
LOCATION:Webcast, Online, online
SEQUENCE:0
STATUS:CONFIRMED
SUMMARY:Desarrollo de Apps para Windows Phone y Windows 8 en C# y Azure - W
ebcast
TRANSP:OPAQUE
END:VEVENT
END:VCALENDAR
