BEGIN:VCALENDAR
PRODID:-//hacksw/handcal//NONSGML v1.0//EN
VERSION:2.0
CALSCALE:GREGORIAN
METHOD:PUBLISH
X-WR-CALNAME:Windows 8 UX Design Camp
X-WR-TIMEZONE:Europe/Madrid
X-WR-CALDESC:Windows 8 UX Design Camp
BEGIN:VEVENT
DTSTART:20130410T083000Z
DTEND:20130410T130000Z
DTSTAMP:20130410T083000Z
UID:87dc3980e75d353ac0850ffd5ec0b545@betabeers.com
CREATED:20130228T112701Z
DESCRIPTION:https://betabeers.com/event/windows-8-ux-design-camp-732/
URL:https://betabeers.com/event/windows-8-ux-design-camp-732/
LAST-MODIFIED:20130228T112701Z
LOCATION:Salón de Actos del Colegio Oficial de Arquitectos de Cataluña, P
laça Nova, 5 08002, Barcelona, España
SEQUENCE:0
STATUS:CONFIRMED
SUMMARY:Windows 8 UX Design Camp
TRANSP:OPAQUE
END:VEVENT
END:VCALENDAR
