BEGIN:VCALENDAR
PRODID:-//hacksw/handcal//NONSGML v1.0//EN
VERSION:2.0
CALSCALE:GREGORIAN
METHOD:PUBLISH
X-WR-CALNAME:Curso Entendiendo git
X-WR-TIMEZONE:Europe/Madrid
X-WR-CALDESC:Curso Entendiendo git
BEGIN:VEVENT
DTSTART:20130412T150000Z
DTEND:20130413T180000Z
DTSTAMP:20130412T150000Z
UID:87d4ef2a0cbbf968fbd5b6a406da0d00@betabeers.com
CREATED:20130227T125500Z
DESCRIPTION:https://betabeers.com/event/curso-entendiendo-git-726/
URL:https://betabeers.com/event/curso-entendiendo-git-726/
LAST-MODIFIED:20130227T125500Z
LOCATION:Calle Comunidad Castilla-La Mancha 8, Las Rozas de Madrid, España
SEQUENCE:0
STATUS:CONFIRMED
SUMMARY:Curso Entendiendo git
TRANSP:OPAQUE
END:VEVENT
END:VCALENDAR
