BEGIN:VCALENDAR
PRODID:-//hacksw/handcal//NONSGML v1.0//EN
VERSION:2.0
CALSCALE:GREGORIAN
METHOD:PUBLISH
X-WR-CALNAME:Presentación del Master de Aplicaciones para Móviles
X-WR-TIMEZONE:Europe/Madrid
X-WR-CALDESC:Presentación del Master de Aplicaciones para Móviles
BEGIN:VEVENT
DTSTART:20130205T170000Z
DTEND:20130205T180000Z
DTSTAMP:20130205T170000Z
UID:d2bc2b89420fa698758918c70554a49e@betabeers.com
CREATED:20130205T160818Z
DESCRIPTION:https://betabeers.com/event/presentacion-del-master-aplicacione
s-moviles-663/
URL:https://betabeers.com/event/presentacion-del-master-aplicaciones-movile
s-663/
LAST-MODIFIED:20130205T160818Z
LOCATION:http://bit.ly/JOPAmasterappsmovil, online
SEQUENCE:0
STATUS:CONFIRMED
SUMMARY:Presentación del Master de Aplicaciones para Móviles
TRANSP:OPAQUE
END:VEVENT
END:VCALENDAR
