BEGIN:VCALENDAR
PRODID:-//hacksw/handcal//NONSGML v1.0//EN
VERSION:2.0
CALSCALE:GREGORIAN
METHOD:PUBLISH
X-WR-CALNAME:Hangout HTML5: FirefoxOS
X-WR-TIMEZONE:Europe/Madrid
X-WR-CALDESC:Hangout HTML5: FirefoxOS
BEGIN:VEVENT
DTSTART:20130122T193000Z
DTEND:20130122T203000Z
DTSTAMP:20130122T193000Z
UID:110e0191972b353c55f9ea3c46ecf415@betabeers.com
CREATED:20130121T125917Z
DESCRIPTION:https://betabeers.com/event/hangout-html5-firefoxos-629/
URL:https://betabeers.com/event/hangout-html5-firefoxos-629/
LAST-MODIFIED:20130121T125917Z
LOCATION:Online, online
SEQUENCE:0
STATUS:CONFIRMED
SUMMARY:Hangout HTML5: FirefoxOS
TRANSP:OPAQUE
END:VEVENT
END:VCALENDAR
