BEGIN:VCALENDAR
PRODID:-//hacksw/handcal//NONSGML v1.0//EN
VERSION:2.0
CALSCALE:GREGORIAN
METHOD:PUBLISH
X-WR-CALNAME:Webcast MSDN (SNUG): Vuelven los Pelochos... Windows 8 y Windows Phone 8 (II)
X-WR-TIMEZONE:Europe/Madrid
X-WR-CALDESC:Webcast MSDN (SNUG): Vuelven los Pelochos... Windows 8 y Windows Phone 8 (II)
BEGIN:VEVENT
DTSTART:20130122T183000Z
DTEND:20130122T203000Z
DTSTAMP:20130122T183000Z
UID:d5baee2689473fb61c5c97c927b62597@betabeers.com
CREATED:20130115T142441Z
DESCRIPTION:https://betabeers.com/event/webcast-msdn-snug-vuelven-los-peloc
hos-windows-8-windows-phone-8-ii-622/
URL:https://betabeers.com/event/webcast-msdn-snug-vuelven-los-pelochos-wind
ows-8-windows-phone-8-ii-622/
LAST-MODIFIED:20130115T142441Z
LOCATION:Webcast, online
SEQUENCE:0
STATUS:CONFIRMED
SUMMARY:Webcast MSDN (SNUG): Vuelven los Pelochos... Windows 8 y Windows Ph
one 8 (II)
TRANSP:OPAQUE
END:VEVENT
END:VCALENDAR
