BEGIN:VCALENDAR
PRODID:-//hacksw/handcal//NONSGML v1.0//EN
VERSION:2.0
CALSCALE:GREGORIAN
METHOD:PUBLISH
X-WR-CALNAME:Webcast Creación aplicaciones de negocio con LightSwitch y SharePoint 2013
X-WR-TIMEZONE:Europe/Madrid
X-WR-CALDESC:Webcast Creación aplicaciones de negocio con LightSwitch y SharePoint 2013
BEGIN:VEVENT
DTSTART:20130129T183000Z
DTEND:20130129T203000Z
DTSTAMP:20130129T183000Z
UID:80e1e769d0d4ca8883db56dadaa47e40@betabeers.com
CREATED:20130115T140330Z
DESCRIPTION:https://betabeers.com/event/webcast-creacion-aplicaciones-negoc
io-lightswitch-sharepoint-2013-621/
URL:https://betabeers.com/event/webcast-creacion-aplicaciones-negocio-light
switch-sharepoint-2013-621/
LAST-MODIFIED:20130115T140330Z
LOCATION:Webcast, online
SEQUENCE:0
STATUS:CONFIRMED
SUMMARY:Webcast Creación aplicaciones de negocio con LightSwitch y SharePo
int 2013
TRANSP:OPAQUE
END:VEVENT
END:VCALENDAR
