BEGIN:VCALENDAR
PRODID:-//hacksw/handcal//NONSGML v1.0//EN
VERSION:2.0
CALSCALE:GREGORIAN
METHOD:PUBLISH
X-WR-CALNAME:Trabajo en equipo y Pruebas con Visual Studio 2012
X-WR-TIMEZONE:Europe/Madrid
X-WR-CALDESC:Trabajo en equipo y Pruebas con Visual Studio 2012
BEGIN:VEVENT
DTSTART:20130129T080000Z
DTEND:20130129T130000Z
DTSTAMP:20130129T080000Z
UID:a4a15bf52adbfec182b90fb4ad65093a@betabeers.com
CREATED:20130115T135448Z
DESCRIPTION:https://betabeers.com/event/trabajo-equipo-pruebas-visual-studi
o-2012-29-enero-2013-620/
URL:https://betabeers.com/event/trabajo-equipo-pruebas-visual-studio-2012-2
9-enero-2013-620/
LAST-MODIFIED:20130115T135448Z
LOCATION:Microsoft - C/ Josep PlÃ¡, 2 Torres Diagonal Litoral Edificio B3 â
€“ Plt. 6Âª â€“ pta. C y D - Barcelona, Barcelona, EspaÃ±a
SEQUENCE:0
STATUS:CONFIRMED
SUMMARY:Trabajo en equipo y Pruebas con Visual Studio 2012
TRANSP:OPAQUE
END:VEVENT
END:VCALENDAR
