BEGIN:VCALENDAR
PRODID:-//hacksw/handcal//NONSGML v1.0//EN
VERSION:2.0
CALSCALE:GREGORIAN
METHOD:PUBLISH
X-WR-CALNAME:Betabeers Bilbao
X-WR-TIMEZONE:Europe/Madrid
X-WR-CALDESC:Betabeers Bilbao
BEGIN:VEVENT
DTSTART:20120215T170000Z
DTEND:20120215T190000Z
DTSTAMP:20120215T170000Z
UID:c78061fbca4e842dff202028fcf11aa8@betabeers.com
CREATED:20120127T105020Z
DESCRIPTION:https://betabeers.com/event/betabeers-bilbao-55/
URL:https://betabeers.com/event/betabeers-bilbao-55/
LAST-MODIFIED:20120127T105020Z
LOCATION:Ideateca. C/Buenos Aires 13, 1ºizda, Bilbao, España
SEQUENCE:0
STATUS:CONFIRMED
SUMMARY:Betabeers Bilbao
TRANSP:OPAQUE
END:VEVENT
END:VCALENDAR
