BEGIN:VCALENDAR
PRODID:-//hacksw/handcal//NONSGML v1.0//EN
VERSION:2.0
CALSCALE:GREGORIAN
METHOD:PUBLISH
X-WR-CALNAME:Leancamp Barcelona
X-WR-TIMEZONE:Europe/Madrid
X-WR-CALDESC:Leancamp Barcelona
BEGIN:VEVENT
DTSTART:20120211T080000Z
DTEND:20120211T200000Z
DTSTAMP:20120211T080000Z
UID:3443de43592121065ad74f6a1280cd3f@betabeers.com
CREATED:20120127T095437Z
DESCRIPTION:https://betabeers.com/event/leancamp-barcelona-11-febrero-2012-
54/
URL:https://betabeers.com/event/leancamp-barcelona-11-febrero-2012-54/
LAST-MODIFIED:20120127T095437Z
LOCATION:Calle Sant Joan de la Salle 42, Barcelona, España
SEQUENCE:0
STATUS:CONFIRMED
SUMMARY:Leancamp Barcelona
TRANSP:OPAQUE
END:VEVENT
END:VCALENDAR
