BEGIN:VCALENDAR
PRODID:-//hacksw/handcal//NONSGML v1.0//EN
VERSION:2.0
CALSCALE:GREGORIAN
METHOD:PUBLISH
X-WR-CALNAME:Techday Tour - Sevilla
X-WR-TIMEZONE:Europe/Madrid
X-WR-CALDESC:Techday Tour - Sevilla
BEGIN:VEVENT
DTSTART:20121212T083000Z
DTEND:20121212T140000Z
DTSTAMP:20121212T083000Z
UID:3018d0a9b701a59d4b522eb950983af2@betabeers.com
CREATED:20121106T150925Z
DESCRIPTION:https://betabeers.com/event/techday-tour-sevilla-12-diciembre-2
012-506/
URL:https://betabeers.com/event/techday-tour-sevilla-12-diciembre-2012-506/
LAST-MODIFIED:20121106T150925Z
LOCATION:Escuela Técnica Superior de Ingeniería Informática de Sevilla, 
Sevilla, España
SEQUENCE:0
STATUS:CONFIRMED
SUMMARY:Techday Tour - Sevilla
TRANSP:OPAQUE
END:VEVENT
END:VCALENDAR
