BEGIN:VCALENDAR
PRODID:-//hacksw/handcal//NONSGML v1.0//EN
VERSION:2.0
CALSCALE:GREGORIAN
METHOD:PUBLISH
X-WR-CALNAME:Techday Tour - Barcelona
X-WR-TIMEZONE:Europe/Madrid
X-WR-CALDESC:Techday Tour - Barcelona
BEGIN:VEVENT
DTSTART:20121129T083000Z
DTEND:20121129T140000Z
DTSTAMP:20121129T083000Z
UID:70985621c796326ad272a984956a68e4@betabeers.com
CREATED:20121106T150620Z
DESCRIPTION:https://betabeers.com/event/techday-tour-barcelona-29-noviembre
-2012-503/
URL:https://betabeers.com/event/techday-tour-barcelona-29-noviembre-2012-50
3/
LAST-MODIFIED:20121106T150620Z
LOCATION:Auditorio Barcelona Activa // Llacuna, 162-164 08018 Barcelona, Ba
rcelona, España
SEQUENCE:0
STATUS:CONFIRMED
SUMMARY:Techday Tour - Barcelona
TRANSP:OPAQUE
END:VEVENT
END:VCALENDAR
