BEGIN:VCALENDAR
PRODID:-//hacksw/handcal//NONSGML v1.0//EN
VERSION:2.0
CALSCALE:GREGORIAN
METHOD:PUBLISH
X-WR-CALNAME:BlackBerry Jam Sessions
X-WR-TIMEZONE:Europe/Madrid
X-WR-CALDESC:BlackBerry Jam Sessions
BEGIN:VEVENT
DTSTART:20121110T080000Z
DTEND:20121110T210000Z
DTSTAMP:20121110T080000Z
UID:4f159e45debb59070ce3cc2841de4ee8@betabeers.com
CREATED:20121103T033522Z
DESCRIPTION:https://betabeers.com/event/blackberry-jam-sessions-10-noviembr
e-2012-493/
URL:https://betabeers.com/event/blackberry-jam-sessions-10-noviembre-2012-4
93/
LAST-MODIFIED:20121103T033522Z
LOCATION:Parque Tecnológica Andalucía, Malaga, España
SEQUENCE:0
STATUS:CONFIRMED
SUMMARY:BlackBerry Jam Sessions
TRANSP:OPAQUE
END:VEVENT
END:VCALENDAR
