BEGIN:VCALENDAR
PRODID:-//hacksw/handcal//NONSGML v1.0//EN
VERSION:2.0
CALSCALE:GREGORIAN
METHOD:PUBLISH
X-WR-CALNAME:Gamelab Academy 2012
X-WR-TIMEZONE:Europe/Madrid
X-WR-CALDESC:Gamelab Academy 2012
BEGIN:VEVENT
DTSTART:20121026T081000Z
DTEND:20121026T133000Z
DTSTAMP:20121026T081000Z
UID:b2a57bab8fbd22bc225808b8491d0591@betabeers.com
CREATED:20121016T120050Z
DESCRIPTION:https://betabeers.com/event/gamelab-academy-2012-26-octubre-201
2-466/
URL:https://betabeers.com/event/gamelab-academy-2012-26-octubre-2012-466/
LAST-MODIFIED:20121016T120050Z
LOCATION:Laboral Centro de Arte y Creación Industrial, Los Prados, 121, Gi
jon, España
SEQUENCE:0
STATUS:CONFIRMED
SUMMARY:Gamelab Academy 2012
TRANSP:OPAQUE
END:VEVENT
END:VCALENDAR
