BEGIN:VCALENDAR
PRODID:-//hacksw/handcal//NONSGML v1.0//EN
VERSION:2.0
CALSCALE:GREGORIAN
METHOD:PUBLISH
X-WR-CALNAME:WebDevBilbao
X-WR-TIMEZONE:Europe/Madrid
X-WR-CALDESC:WebDevBilbao
BEGIN:VEVENT
DTSTART:20120126T180000Z
DTEND:20120126T200000Z
DTSTAMP:20120126T180000Z
UID:bc314629d725e7c029da0f987b6a4318@betabeers.com
CREATED:20120123T143400Z
DESCRIPTION:https://betabeers.com/event/webdevbilbao-26-enero-2012-46/
URL:https://betabeers.com/event/webdevbilbao-26-enero-2012-46/
LAST-MODIFIED:20120123T143400Z
LOCATION:Eutokia, Carretera Bilbao Galdakao, nº 10, 3ª planta, Bilbao, Es
paña
SEQUENCE:0
STATUS:CONFIRMED
SUMMARY:WebDevBilbao
TRANSP:OPAQUE
END:VEVENT
END:VCALENDAR
