BEGIN:VCALENDAR
PRODID:-//hacksw/handcal//NONSGML v1.0//EN
VERSION:2.0
CALSCALE:GREGORIAN
METHOD:PUBLISH
X-WR-CALNAME:Congreso Web 2012
X-WR-TIMEZONE:Europe/Madrid
X-WR-CALDESC:Congreso Web 2012
BEGIN:VEVENT
DTSTART:20120601T110000Z
DTEND:20120603T180000Z
DTSTAMP:20120601T110000Z
UID:326fb0c5a99153f8470e9bf6714a9aaa@betabeers.com
CREATED:20120120T094554Z
DESCRIPTION:https://betabeers.com/event/congreso-web-2012-1-junio-2012-43/
URL:https://betabeers.com/event/congreso-web-2012-1-junio-2012-43/
LAST-MODIFIED:20120120T094554Z
LOCATION:World Trade Center, Zaragoza, España
SEQUENCE:0
STATUS:CONFIRMED
SUMMARY:Congreso Web 2012
TRANSP:OPAQUE
END:VEVENT
END:VCALENDAR
