BEGIN:VCALENDAR
PRODID:-//hacksw/handcal//NONSGML v1.0//EN
VERSION:2.0
CALSCALE:GREGORIAN
METHOD:PUBLISH
X-WR-CALNAME:Visual Studio Tour
X-WR-TIMEZONE:Europe/Madrid
X-WR-CALDESC:Visual Studio Tour
BEGIN:VEVENT
DTSTART:20121108T083000Z
DTEND:20121108T163000Z
DTSTAMP:20121108T083000Z
UID:90a0a384125a9e3854557bc064bc7e28@betabeers.com
CREATED:20121008T145037Z
DESCRIPTION:https://betabeers.com/event/visual-studio-tour-8-noviembre-2012
-425/
URL:https://betabeers.com/event/visual-studio-tour-8-noviembre-2012-425/
LAST-MODIFIED:20121008T145037Z
LOCATION:Carrer del Roc Boronat 37, Barcelona, España
SEQUENCE:0
STATUS:CONFIRMED
SUMMARY:Visual Studio Tour
TRANSP:OPAQUE
END:VEVENT
END:VCALENDAR
