BEGIN:VCALENDAR
PRODID:-//hacksw/handcal//NONSGML v1.0//EN
VERSION:2.0
CALSCALE:GREGORIAN
METHOD:PUBLISH
X-WR-CALNAME:Webcat September
X-WR-TIMEZONE:Europe/Madrid
X-WR-CALDESC:Webcat September
BEGIN:VEVENT
DTSTART:20120926T180000Z
DTEND:20120926T200000Z
DTSTAMP:20120926T180000Z
UID:3ec7a4cb87bae9c1e52dfd9636cdad69@betabeers.com
CREATED:20120924T104610Z
DESCRIPTION:https://betabeers.com/event/webcat-september-26-septiembre-2012
-412/
URL:https://betabeers.com/event/webcat-september-26-septiembre-2012-412/
LAST-MODIFIED:20120924T104610Z
LOCATION:Providència, 88, Barcelona, España
SEQUENCE:0
STATUS:CONFIRMED
SUMMARY:Webcat September
TRANSP:OPAQUE
END:VEVENT
END:VCALENDAR
