BEGIN:VCALENDAR
PRODID:-//hacksw/handcal//NONSGML v1.0//EN
VERSION:2.0
CALSCALE:GREGORIAN
METHOD:PUBLISH
X-WR-CALNAME:HTML5 Tour
X-WR-TIMEZONE:Europe/Madrid
X-WR-CALDESC:HTML5 Tour
BEGIN:VEVENT
DTSTART:20121016T083000Z
DTEND:20121016T163000Z
DTSTAMP:20121016T083000Z
UID:784e90b2550489bd91d03a092056654c@betabeers.com
CREATED:20120922T180855Z
DESCRIPTION:https://betabeers.com/event/html5-tour-16-octubre-2012-411/
URL:https://betabeers.com/event/html5-tour-16-octubre-2012-411/
LAST-MODIFIED:20120922T180855Z
LOCATION:Escuela Técnica Superior de Ingeniería Informática, Sevilla, Es
paña
SEQUENCE:0
STATUS:CONFIRMED
SUMMARY:HTML5 Tour
TRANSP:OPAQUE
END:VEVENT
END:VCALENDAR
