BEGIN:VCALENDAR
PRODID:-//hacksw/handcal//NONSGML v1.0//EN
VERSION:2.0
CALSCALE:GREGORIAN
METHOD:PUBLISH
X-WR-CALNAME:Drupal & Birras Vigo
X-WR-TIMEZONE:Europe/Madrid
X-WR-CALDESC:Drupal & Birras Vigo
BEGIN:VEVENT
DTSTART:20120727T173000Z
DTEND:20120727T210000Z
DTSTAMP:20120727T173000Z
UID:701acd0b52cf77de43a0101c9b5aa75e@betabeers.com
CREATED:20120724T161620Z
DESCRIPTION:https://betabeers.com/event/drupal-birras-vigo-27-julio-2012-37
4/
URL:https://betabeers.com/event/drupal-birras-vigo-27-julio-2012-374/
LAST-MODIFIED:20120724T161620Z
LOCATION:Obra social Novacaixagalicia, Calle Policarpo Sanz, 24, Vigo, Espa
ña
SEQUENCE:0
STATUS:CONFIRMED
SUMMARY:Drupal & Birras Vigo
TRANSP:OPAQUE
END:VEVENT
END:VCALENDAR
