BEGIN:VCALENDAR
PRODID:-//hacksw/handcal//NONSGML v1.0//EN
VERSION:2.0
CALSCALE:GREGORIAN
METHOD:PUBLISH
X-WR-CALNAME:Conferencia Agile-Spain
X-WR-TIMEZONE:Europe/Madrid
X-WR-CALDESC:Conferencia Agile-Spain
BEGIN:VEVENT
DTSTART:20121025T060000Z
DTEND:20121026T060000Z
DTSTAMP:20121025T060000Z
UID:8e10b94dafe7b8f54d4804dbeda1b14e@betabeers.com
CREATED:20120706T115555Z
DESCRIPTION:https://betabeers.com/event/conferencia-agile-spain-25-octubre-
2012-354/
URL:https://betabeers.com/event/conferencia-agile-spain-25-octubre-2012-354
/
LAST-MODIFIED:20120706T115555Z
LOCATION:Complejo Cultural San Francisco, Caceres, España
SEQUENCE:0
STATUS:CONFIRMED
SUMMARY:Conferencia Agile-Spain
TRANSP:OPAQUE
END:VEVENT
END:VCALENDAR
