BEGIN:VCALENDAR
PRODID:-//hacksw/handcal//NONSGML v1.0//EN
VERSION:2.0
CALSCALE:GREGORIAN
METHOD:PUBLISH
X-WR-CALNAME:Web-5 Conference Béziers 2012
X-WR-TIMEZONE:Europe/Madrid
X-WR-CALDESC:Web-5 Conference Béziers 2012
BEGIN:VEVENT
DTSTART:20120404T060000Z
DTEND:20120406T060000Z
DTSTAMP:20120404T060000Z
UID:78d4566a36d9c7d132474caf026a27e0@betabeers.com
CREATED:20120118T022223Z
DESCRIPTION:https://betabeers.com/event/web-5-conference-beziers-2012-4-abr
il-2012-35/
URL:https://betabeers.com/event/web-5-conference-beziers-2012-4-abril-2012-
35/
LAST-MODIFIED:20120118T022223Z
LOCATION:IUT Béziers, 3, place du 14 juillet, BP 50438, Beziers, Francia
SEQUENCE:0
STATUS:CONFIRMED
SUMMARY:Web-5 Conference Béziers 2012
TRANSP:OPAQUE
END:VEVENT
END:VCALENDAR
