BEGIN:VCALENDAR
PRODID:-//hacksw/handcal//NONSGML v1.0//EN
VERSION:2.0
CALSCALE:GREGORIAN
METHOD:PUBLISH
X-WR-CALNAME:Ducksboard: el corazón del pato!
X-WR-TIMEZONE:Europe/Madrid
X-WR-CALDESC:Ducksboard: el corazón del pato!
BEGIN:VEVENT
DTSTART:20120719T190000Z
DTEND:20120719T210000Z
DTSTAMP:20120719T190000Z
UID:c7823e5540715446a21b75c9fda5ed3f@betabeers.com
CREATED:20120702T120636Z
DESCRIPTION:https://betabeers.com/event/ducksboard-el-corazon-del-pato-19-j
ulio-2012-337/
URL:https://betabeers.com/event/ducksboard-el-corazon-del-pato-19-julio-201
2-337/
LAST-MODIFIED:20120702T120636Z
LOCATION:Carrer de Cros, 7, 08014, Barcelona, España
SEQUENCE:0
STATUS:CONFIRMED
SUMMARY:Ducksboard: el corazón del pato!
TRANSP:OPAQUE
END:VEVENT
END:VCALENDAR
