BEGIN:VCALENDAR
PRODID:-//hacksw/handcal//NONSGML v1.0//EN
VERSION:2.0
CALSCALE:GREGORIAN
METHOD:PUBLISH
X-WR-CALNAME:Speed Networking (Sant Cugat)
X-WR-TIMEZONE:Europe/Madrid
X-WR-CALDESC:Speed Networking (Sant Cugat)
BEGIN:VEVENT
DTSTART:20120627T180000Z
DTEND:20120627T220000Z
DTSTAMP:20120627T180000Z
UID:867390f438901d537f9e760326f203e2@betabeers.com
CREATED:20120622T140529Z
DESCRIPTION:https://betabeers.com/event/speed-networking-sant-cugat-27-juni
o-2012-328/
URL:https://betabeers.com/event/speed-networking-sant-cugat-27-junio-2012-3
28/
LAST-MODIFIED:20120622T140529Z
LOCATION:C/ Rambla Sábat i Aumasque, 4, 08172 Sant Cugat del Vallès, Barc
elona, España
SEQUENCE:0
STATUS:CONFIRMED
SUMMARY:Speed Networking (Sant Cugat)
TRANSP:OPAQUE
END:VEVENT
END:VCALENDAR
