BEGIN:VCALENDAR
PRODID:-//hacksw/handcal//NONSGML v1.0//EN
VERSION:2.0
CALSCALE:GREGORIAN
METHOD:PUBLISH
X-WR-CALNAME:DrupalVal - Introducción a Node.js
X-WR-TIMEZONE:Europe/Madrid
X-WR-CALDESC:DrupalVal - Introducción a Node.js
BEGIN:VEVENT
DTSTART:20120126T173000Z
DTEND:20120126T193000Z
DTSTAMP:20120126T173000Z
UID:aefcead650db98438ea1644529bd42ee@betabeers.com
CREATED:20120117T175727Z
DESCRIPTION:https://betabeers.com/event/drupalval-introduccion-a-nodejs-26-
enero-2012-32/
URL:https://betabeers.com/event/drupalval-introduccion-a-nodejs-26-enero-20
12-32/
LAST-MODIFIED:20120117T175727Z
LOCATION:ITI Camino de Vera, s/n, Valencia, España
SEQUENCE:0
STATUS:CONFIRMED
SUMMARY:DrupalVal - Introducción a Node.js
TRANSP:OPAQUE
END:VEVENT
END:VCALENDAR
