BEGIN:VCALENDAR
PRODID:-//hacksw/handcal//NONSGML v1.0//EN
VERSION:2.0
CALSCALE:GREGORIAN
METHOD:PUBLISH
X-WR-CALNAME:Agile Open Space Zaragoza 2012
X-WR-TIMEZONE:Europe/Madrid
X-WR-CALDESC:Agile Open Space Zaragoza 2012
BEGIN:VEVENT
DTSTART:20120623T060000Z
DTEND:20120623T060000Z
DTSTAMP:20120623T060000Z
UID:a3c9cedfac4f91e72423cdb0a39a9b36@betabeers.com
CREATED:20120611T110802Z
DESCRIPTION:https://betabeers.com/event/agile-open-space-zaragoza-2012-23-j
unio-2012-314/
URL:https://betabeers.com/event/agile-open-space-zaragoza-2012-23-junio-201
2-314/
LAST-MODIFIED:20120611T110802Z
LOCATION:Vía Hispanidad, 20, Zaragoza, España
SEQUENCE:0
STATUS:CONFIRMED
SUMMARY:Agile Open Space Zaragoza 2012
TRANSP:OPAQUE
END:VEVENT
END:VCALENDAR
