BEGIN:VCALENDAR
PRODID:-//hacksw/handcal//NONSGML v1.0//EN
VERSION:2.0
CALSCALE:GREGORIAN
METHOD:PUBLISH
X-WR-CALNAME:Hackathon Windows 8 HTML5
X-WR-TIMEZONE:Europe/Madrid
X-WR-CALDESC:Hackathon Windows 8 HTML5
BEGIN:VEVENT
DTSTART:20120615T153000Z
DTEND:20120617T180000Z
DTSTAMP:20120615T153000Z
UID:9ef8fe57f1f6a7a49594ce1c16127903@betabeers.com
CREATED:20120608T115203Z
DESCRIPTION:https://betabeers.com/event/hackathon-windows-8-html5-15-junio-
2012-309/
URL:https://betabeers.com/event/hackathon-windows-8-html5-15-junio-2012-309
/
LAST-MODIFIED:20120608T115203Z
LOCATION:Paseo del Club Deportivo, 1, Pozuelo de Alarcon, España
SEQUENCE:0
STATUS:CONFIRMED
SUMMARY:Hackathon Windows 8 HTML5
TRANSP:OPAQUE
END:VEVENT
END:VCALENDAR
