BEGIN:VCALENDAR
PRODID:-//hacksw/handcal//NONSGML v1.0//EN
VERSION:2.0
CALSCALE:GREGORIAN
METHOD:PUBLISH
X-WR-CALNAME:Taller acelerado Symfony. Aprende cÃ³mo crear una aplicaciÃ³n como Airbnb en 2 semanas
X-WR-TIMEZONE:Europe/Madrid
X-WR-CALDESC:Taller acelerado Symfony. Aprende cÃ³mo crear una aplicaciÃ³n como Airbnb en 2 semanas
BEGIN:VEVENT
DTSTART:20151026T180000Z
DTEND:20151026T200000Z
DTSTAMP:20151026T180000Z
UID:e908efcc821fd42958ddf894c646a9ac@betabeers.com
CREATED:20150917T092415Z
DESCRIPTION:https://betabeers.com/event/taller-acelerado-symfony-aprende-co
mo-crear-una-aplicacion-como-airbnb-2-semanas-3078/
URL:https://betabeers.com/event/taller-acelerado-symfony-aprende-como-crear
-una-aplicacion-como-airbnb-2-semanas-3078/
LAST-MODIFIED:20150917T092415Z
LOCATION:GeeksHubs. Avenida CataluÃ±a, 11 Entresuelo 46020, Valencia, EspaÃ
±a
SEQUENCE:0
STATUS:CONFIRMED
SUMMARY:Taller acelerado Symfony. Aprende cÃ³mo crear una aplicaciÃ³n como 
Airbnb en 2 semanas
TRANSP:OPAQUE
END:VEVENT
END:VCALENDAR
