BEGIN:VCALENDAR
PRODID:-//hacksw/handcal//NONSGML v1.0//EN
VERSION:2.0
CALSCALE:GREGORIAN
METHOD:PUBLISH
X-WR-CALNAME:Drupal Developer Days Barcelona
X-WR-TIMEZONE:Europe/Madrid
X-WR-CALDESC:Drupal Developer Days Barcelona
BEGIN:VEVENT
DTSTART:20120615T060000Z
DTEND:20120617T060000Z
DTSTAMP:20120615T060000Z
UID:a6b877c618b1acfbe4af25c9e949137b@betabeers.com
CREATED:20120117T014654Z
DESCRIPTION:https://betabeers.com/event/drupal-developer-days-barcelona-15-
junio-2012-30/
URL:https://betabeers.com/event/drupal-developer-days-barcelona-15-junio-20
12-30/
LAST-MODIFIED:20120117T014654Z
LOCATION:Citilab, Plaça Can Suris, s/n, Cornella de Llobregat, Barcelona, 
España
SEQUENCE:0
STATUS:CONFIRMED
SUMMARY:Drupal Developer Days Barcelona
TRANSP:OPAQUE
END:VEVENT
END:VCALENDAR
