BEGIN:VCALENDAR
PRODID:-//hacksw/handcal//NONSGML v1.0//EN
VERSION:2.0
CALSCALE:GREGORIAN
METHOD:PUBLISH
X-WR-CALNAME:Geek's Talks - 31st meeting: Computers & summer
X-WR-TIMEZONE:Europe/Madrid
X-WR-CALDESC:Geek's Talks - 31st meeting: Computers & summer
BEGIN:VEVENT
DTSTART:20150901T183000Z
DTEND:20150901T193000Z
DTSTAMP:20150901T183000Z
UID:b2d653e67fd69a25ba60ace769d0f466@betabeers.com
CREATED:20150829T210137Z
DESCRIPTION:https://betabeers.com/event/geeks-talks-31st-meeting-computers-
summer-1-septiembre-2015-2999/
URL:https://betabeers.com/event/geeks-talks-31st-meeting-computers-summer-1
-septiembre-2015-2999/
LAST-MODIFIED:20150829T210137Z
LOCATION:Plaza Nuestra Señora del Carmen, 9, Zaragoza, España
SEQUENCE:0
STATUS:CONFIRMED
SUMMARY:Geek's Talks - 31st meeting: Computers & summer
TRANSP:OPAQUE
END:VEVENT
END:VCALENDAR
