BEGIN:VCALENDAR
PRODID:-//hacksw/handcal//NONSGML v1.0//EN
VERSION:2.0
CALSCALE:GREGORIAN
METHOD:PUBLISH
X-WR-CALNAME:WebCongress Barcelona 2012
X-WR-TIMEZONE:Europe/Madrid
X-WR-CALDESC:WebCongress Barcelona 2012
BEGIN:VEVENT
DTSTART:20120613T083000Z
DTEND:20120614T210000Z
DTSTAMP:20120613T083000Z
UID:f1c95600a9dd1fdcb198684ae529663b@betabeers.com
CREATED:20120601T010100Z
DESCRIPTION:https://betabeers.com/event/webcongress-barcelona-2012-13-junio
-2012-299/
URL:https://betabeers.com/event/webcongress-barcelona-2012-13-junio-2012-29
9/
LAST-MODIFIED:20120601T010100Z
LOCATION:Fira Barcelona, Avenida de la Reina Maria Cristina, s/n, Barcelona
, España
SEQUENCE:0
STATUS:CONFIRMED
SUMMARY:WebCongress Barcelona 2012
TRANSP:OPAQUE
END:VEVENT
END:VCALENDAR
