BEGIN:VCALENDAR
PRODID:-//hacksw/handcal//NONSGML v1.0//EN
VERSION:2.0
CALSCALE:GREGORIAN
METHOD:PUBLISH
X-WR-CALNAME:Docker Barcelona - Docker in Testing and Production
X-WR-TIMEZONE:Europe/Madrid
X-WR-CALDESC:Docker Barcelona - Docker in Testing and Production
BEGIN:VEVENT
DTSTART:20150721T180000Z
DTEND:20150721T190000Z
DTSTAMP:20150721T180000Z
UID:eb4b3ff17adfef573cf09fce0291231e@betabeers.com
CREATED:20150718T210057Z
DESCRIPTION:https://betabeers.com/event/docker-barcelona-docker-in-testing-
and-production-21-julio-2015-2907/
URL:https://betabeers.com/event/docker-barcelona-docker-in-testing-and-prod
uction-21-julio-2015-2907/
LAST-MODIFIED:20150718T210057Z
LOCATION:Llacuna 162, Barcelona, España
SEQUENCE:0
STATUS:CONFIRMED
SUMMARY:Docker Barcelona - Docker in Testing and Production
TRANSP:OPAQUE
END:VEVENT
END:VCALENDAR
