BEGIN:VCALENDAR
PRODID:-//hacksw/handcal//NONSGML v1.0//EN
VERSION:2.0
CALSCALE:GREGORIAN
METHOD:PUBLISH
X-WR-CALNAME:MalagaMakers AFTER7 - June
X-WR-TIMEZONE:Europe/Madrid
X-WR-CALDESC:MalagaMakers AFTER7 - June
BEGIN:VEVENT
DTSTART:20150709T180000Z
DTEND:20150709T210000Z
DTSTAMP:20150709T180000Z
UID:b37b2deb6932b8580514cbdea8f00bd3@betabeers.com
CREATED:20150707T113038Z
DESCRIPTION:https://betabeers.com/event/malagamakers-after7-june-2888/
URL:https://betabeers.com/event/malagamakers-after7-june-2888/
LAST-MODIFIED:20150707T113038Z
LOCATION:Metropolitan design lab,Calle Alhóndiga 6, 2º C y D, Malaga, Esp
aña
SEQUENCE:0
STATUS:CONFIRMED
SUMMARY:MalagaMakers AFTER7 - June
TRANSP:OPAQUE
END:VEVENT
END:VCALENDAR
