BEGIN:VCALENDAR
PRODID:-//hacksw/handcal//NONSGML v1.0//EN
VERSION:2.0
CALSCALE:GREGORIAN
METHOD:PUBLISH
X-WR-CALNAME:Scala Developers Barcelona - End of Season Scala Beers
X-WR-TIMEZONE:Europe/Madrid
X-WR-CALDESC:Scala Developers Barcelona - End of Season Scala Beers
BEGIN:VEVENT
DTSTART:20150716T180000Z
DTEND:20150716T190000Z
DTSTAMP:20150716T180000Z
UID:0b7a8bdc15b94b20617b520845f94305@betabeers.com
CREATED:20150704T230104Z
DESCRIPTION:https://betabeers.com/event/scala-developers-barcelona-end-seas
on-scala-beers-16-julio-2015-2874/
URL:https://betabeers.com/event/scala-developers-barcelona-end-season-scala
-beers-16-julio-2015-2874/
LAST-MODIFIED:20150704T230104Z
LOCATION:Plaça de la Sagrada Familia, 4, Barcelona, España
SEQUENCE:0
STATUS:CONFIRMED
SUMMARY:Scala Developers Barcelona - End of Season Scala Beers
TRANSP:OPAQUE
END:VEVENT
END:VCALENDAR
