BEGIN:VCALENDAR
PRODID:-//hacksw/handcal//NONSGML v1.0//EN
VERSION:2.0
CALSCALE:GREGORIAN
METHOD:PUBLISH
X-WR-CALNAME:Open Space on DevOps
X-WR-TIMEZONE:Europe/Madrid
X-WR-CALDESC:Open Space on DevOps
BEGIN:VEVENT
DTSTART:20150701T183000Z
DTEND:20150701T203000Z
DTSTAMP:20150701T183000Z
UID:89214b2fec7d9e16f297d9af8ef2fa5d@betabeers.com
CREATED:20150622T161306Z
DESCRIPTION:https://betabeers.com/event/open-space-on-devops-2833/
URL:https://betabeers.com/event/open-space-on-devops-2833/
LAST-MODIFIED:20150622T161306Z
LOCATION:Talent Garden Barcelona. Carrer de Muntaner 239, 3º A, Barcelona,
 España
SEQUENCE:0
STATUS:CONFIRMED
SUMMARY:Open Space on DevOps
TRANSP:OPAQUE
END:VEVENT
END:VCALENDAR
