BEGIN:VCALENDAR
PRODID:-//hacksw/handcal//NONSGML v1.0//EN
VERSION:2.0
CALSCALE:GREGORIAN
METHOD:PUBLISH
X-WR-CALNAME:The Barcelona Python Meetup Group - Python June Meetup
X-WR-TIMEZONE:Europe/Madrid
X-WR-CALDESC:The Barcelona Python Meetup Group - Python June Meetup
BEGIN:VEVENT
DTSTART:20150618T180000Z
DTEND:20150618T190000Z
DTSTAMP:20150618T180000Z
UID:e762b091137d1e870506ed7f3ef04dc9@betabeers.com
CREATED:20150613T230008Z
DESCRIPTION:https://betabeers.com/event/the-barcelona-python-meetup-group-p
ython-june-meetup-18-junio-2015-2801/
URL:https://betabeers.com/event/the-barcelona-python-meetup-group-python-ju
ne-meetup-18-junio-2015-2801/
LAST-MODIFIED:20150613T230008Z
LOCATION:c/ Dr. Aiguader, 88, Barcelona, España
SEQUENCE:0
STATUS:CONFIRMED
SUMMARY:The Barcelona Python Meetup Group - Python June Meetup
TRANSP:OPAQUE
END:VEVENT
END:VCALENDAR
